{
 "documentInfo": {
  "comments": "",
  "keywords": "",
  "credits": "",
  "author": "",
  "subject": "",
  "antialiasingMode": "Best",
  "title": "",
  "category": "",
  "textAntialiasingMode": "Force"
 },
 "access": "",
 "tileInfo": {
  "lods": [
   {
    "level": 7,
    "scale": 4622324.434309,
    "resolution": 1222.9924531249992
   },
   {
    "level": 8,
    "scale": 2311162.217155,
    "resolution": 611.4962265624996
   },
   {
    "level": 9,
    "scale": 1155581.108577,
    "resolution": 305.7481132812498
   },
   {
    "level": 10,
    "scale": 577790.554289,
    "resolution": 152.8740566406249
   },
   {
    "level": 11,
    "scale": 288895.277144,
    "resolution": 76.43702832031259
   },
   {
    "level": 12,
    "scale": 144447.638572,
    "resolution": 38.218514160156296
   },
   {
    "level": 13,
    "scale": 72223.819286,
    "resolution": 19.10925708007812
   },
   {
    "level": 14,
    "scale": 36111.909643,
    "resolution": 9.55462854003906
   },
   {
    "level": 15,
    "scale": 18055.954822,
    "resolution": 4.77731427001953
   },
   {
    "level": 16,
    "scale": 9027.977411,
    "resolution": 2.388657135009765
   },
   {
    "level": 17,
    "scale": 4513.988705,
    "resolution": 1.194328567504884
   }
  ],
  "origin": {
   "x": -2.0037508342787E7,
   "y": 2.0037508342787E7
  },
  "format": "JPEG",
  "compressionQuality": 0,
  "spatialReference": {
   "wkid": 102100
  },
  "rows": 256,
  "dpi": 96,
  "cols": 256
 },
 "description": null,
 "units": "esriMeters",
 "type": "MapServer",
 "supportedImageFormatTypes": "JPEG",
 "tables": [],
 "layers": [
  {
   "maxScale": 4513.988705,
   "subLayerIds": null,
   "name": null,
   "defaultVisibility": true,
   "id": 2664,
   "minScale": 4622324.434309,
   "parentLayerId": -1
  }
 ],
 "modified": null,
 "id": "seamless_carto/default/3857/1220",
 "minScale": 4622324.434309,
 "mapName": "seamless carto 1981",
 "spatialReference": {
  "wkid": 102100
 },
 "fullExtent": {
  "ymin": 6349000,
  "xmin": 272000,
  "ymax": 6720000,
  "xmax": 719000,
  "spatialReference": {
   "wkid": 102100
  }
 },
 "capabilities": "Map",
 "maxScale": 4513.988705,
 "created": null,
 "singleFusedMapCache": true,
 "currentVersion": 10.2,
 "initialExtent": {
  "ymin": 6349000,
  "xmin": 272000,
  "ymax": 6720000,
  "xmax": 719000,
  "spatialReference": {
   "wkid": 102100
  }
 },
 "name": "seamless carto 1981",
 "serviceDescription": null,
 "copyrightText": "NGI - IGN",
 "status": "created"
}
