<?xml version="1.0" encoding="UTF-8"?>
<Capabilities xmlns="http://www.opengis.net/wmts/1.0" xmlns:ows="http://www.opengis.net/ows/1.1" xmlns:xlink="http://www.w3.org/1999/xlink" xmlns:xsi="http://www.w3.org/2001/XMLSchema-instance" xmlns:gml="http://www.opengis.net/gml" xmlns:inspire_vs="http://inspire.ec.europa.eu/schemas/inspire_vs_ows11/1.0" xmlns:inspire_common="http://inspire.ec.europa.eu/schemas/common/1.0" xsi:schemaLocation="http://www.opengis.net/wmts/1.0 http://schemas.opengis.net/wmts/1.0/wmtsGetCapabilities_response.xsd http://inspire.ec.europa.eu/schemas/inspire_vs_ows11/1.0 http://inspire.ec.europa.eu/schemas/inspire_vs_ows11/1.0/inspire_vs_ows_11.xsd http://inspire.ec.europa.eu/schemas/common/1.0 http://inspire.ec.europa.eu/schemas/common/1.0/common.xsd" version="1.0.0">
	<ows:ServiceIdentification>
		<ows:Title>View service - Historical orthophotos 1950s</ows:Title>
		<ows:Abstract xml:lang="en">This service allows the visualization of historical orthophoto mosaics based on available aerial photographs covering parts of the Belgian territory. The data is accessible via a Web Map Service (WMS).

Orthophotos are aerial photographs that have been geometrically corrected (orthorectified) to eliminate distortions caused by terrain relief, lens distortion, and camera tilt. Unlike raw aerial imagery, orthophotos have a uniform scale and accurate geometry, making them suitable for cartography, measurements, and visual analysis.

This specific service includes historical orthophotos from 1950, 1951, 1952 and 1954, derived from aerial surveys carried out by the National Geographic Institute (NGI). During this period, only analogue aerial photographs are available. The analogue images were scanned at high resolution and orthorectified. The resulting orthophotos were assembled into mosaics and georeferenced in the Lambert 2008 coordinate system.

All orthophotos are panchromatic (black and white). The ground resolution (GSD) is 50 cm. The spatial coverage of this service is limited to the areas for which aerial photographs were available during the mentioned period.</ows:Abstract>
		<ows:Keywords>
			<Keyword xml:lang="en">infoMapAccessService</Keyword>
			<Keyword xml:lang="en">Federal viewer</Keyword>
			<Keyword xml:lang="en">Aerial photographs and orthophotographs</Keyword>
			<Keyword xml:lang="en">Environment</Keyword>
			<Keyword xml:lang="en">Orthoimagery</Keyword>
			<Keyword xml:lang="en">federal government</Keyword>
			<Keyword xml:lang="en">aerial photograph</Keyword>
			<Keyword xml:lang="en">Orthoimagery</Keyword>
			<Keyword xml:lang="en">National</Keyword>
			<Keyword xml:lang="en">historical orthophotos, aerial photographs, 1950, 1951, 1952, 1954, panchromatic, black and white, 50 cm resolution</Keyword>
		</ows:Keywords>
		<ows:ServiceType>OGC WMTS</ows:ServiceType>
		<ows:ServiceTypeVersion>1.0.0</ows:ServiceTypeVersion>
		<ows:AccessConstraints>
			None
		</ows:AccessConstraints>
	</ows:ServiceIdentification>
	<ows:ServiceProvider>
		<ows:ProviderName>NGI - IGN</ows:ProviderName>
		<ows:ProviderSite xlink:href="http://www.ngi.be"/>
		<ows:ServiceContact>
			<ows:ContactInfo>
				<ows:Address>
					<ows:ElectronicMailAddress>metadata@ngi.be</ows:ElectronicMailAddress>
				</ows:Address>
			</ows:ContactInfo>
		</ows:ServiceContact>
	</ows:ServiceProvider>
	<Contents>
		<Layer>
			<ows:Title>Orthophoto 1954</ows:Title>
			<ows:Abstract xml:lang="en">
				orthophoto_1954
			</ows:Abstract>
			<ows:Keywords>
			</ows:Keywords>
			<ows:WGS84BoundingBox>
				<ows:LowerCorner>2.5257209746879496 49.48461347792561</ows:LowerCorner>
				<ows:UpperCorner>6.45901428423457 51.50583649955355</ows:UpperCorner>
			</ows:WGS84BoundingBox>
			<ows:Identifier>orthophoto_1954</ows:Identifier>
			<Style isDefault="true">
				<ows:Identifier>default</ows:Identifier>
			</Style>
			<Format>image/png</Format>
			<InfoFormat>text/plain</InfoFormat>
			<TileMatrixSetLink>
				<TileMatrixSet>3857</TileMatrixSet>
				<TileMatrixSetLimits>
					<TileMatrixLimits>
						<TileMatrix>7</TileMatrix>
						<MinTileRow>42</MinTileRow>
						<MaxTileRow>44</MaxTileRow>
						<MinTileCol>64</MinTileCol>
						<MaxTileCol>67</MaxTileCol>
					</TileMatrixLimits>
					<TileMatrixLimits>
						<TileMatrix>8</TileMatrix>
						<MinTileRow>85</MinTileRow>
						<MaxTileRow>88</MaxTileRow>
						<MinTileCol>129</MinTileCol>
						<MaxTileCol>133</MaxTileCol>
					</TileMatrixLimits>
					<TileMatrixLimits>
						<TileMatrix>9</TileMatrix>
						<MinTileRow>170</MinTileRow>
						<MaxTileRow>175</MaxTileRow>
						<MinTileCol>259</MinTileCol>
						<MaxTileCol>266</MaxTileCol>
					</TileMatrixLimits>
					<TileMatrixLimits>
						<TileMatrix>10</TileMatrix>
						<MinTileRow>340</MinTileRow>
						<MaxTileRow>350</MaxTileRow>
						<MinTileCol>519</MinTileCol>
						<MaxTileCol>531</MaxTileCol>
					</TileMatrixLimits>
					<TileMatrixLimits>
						<TileMatrix>11</TileMatrix>
						<MinTileRow>681</MinTileRow>
						<MaxTileRow>700</MaxTileRow>
						<MinTileCol>1038</MinTileCol>
						<MaxTileCol>1061</MaxTileCol>
					</TileMatrixLimits>
					<TileMatrixLimits>
						<TileMatrix>12</TileMatrix>
						<MinTileRow>1362</MinTileRow>
						<MaxTileRow>1399</MaxTileRow>
						<MinTileCol>2076</MinTileCol>
						<MaxTileCol>2122</MaxTileCol>
					</TileMatrixLimits>
					<TileMatrixLimits>
						<TileMatrix>13</TileMatrix>
						<MinTileRow>2724</MinTileRow>
						<MaxTileRow>2797</MaxTileRow>
						<MinTileCol>4153</MinTileCol>
						<MaxTileCol>4243</MaxTileCol>
					</TileMatrixLimits>
					<TileMatrixLimits>
						<TileMatrix>14</TileMatrix>
						<MinTileRow>5448</MinTileRow>
						<MaxTileRow>5593</MaxTileRow>
						<MinTileCol>8306</MinTileCol>
						<MaxTileCol>8486</MaxTileCol>
					</TileMatrixLimits>
					<TileMatrixLimits>
						<TileMatrix>15</TileMatrix>
						<MinTileRow>10896</MinTileRow>
						<MaxTileRow>11186</MaxTileRow>
						<MinTileCol>16613</MinTileCol>
						<MaxTileCol>16972</MaxTileCol>
					</TileMatrixLimits>
					<TileMatrixLimits>
						<TileMatrix>16</TileMatrix>
						<MinTileRow>21792</MinTileRow>
						<MaxTileRow>22372</MaxTileRow>
						<MinTileCol>33227</MinTileCol>
						<MaxTileCol>33944</MaxTileCol>
					</TileMatrixLimits>
					<TileMatrixLimits>
						<TileMatrix>17</TileMatrix>
						<MinTileRow>43585</MinTileRow>
						<MaxTileRow>44743</MaxTileRow>
						<MinTileCol>66455</MinTileCol>
						<MaxTileCol>67888</MaxTileCol>
					</TileMatrixLimits>
				</TileMatrixSetLimits>
			</TileMatrixSetLink>
			<ResourceURL resourceType="tile" template="https://wmts.ngi.be/orthophotos_1950s/1.0.0/orthophoto_1954/{style}/{TileMatrixSet}/latest/{TileMatrix}/{TileRow}/{TileCol}.png" format="image/png"/>
		</Layer>
		<Layer>
			<ows:Title>Orthophoto 1952</ows:Title>
			<ows:Abstract xml:lang="en">
				orthophoto_1952
			</ows:Abstract>
			<ows:Keywords>
			</ows:Keywords>
			<ows:WGS84BoundingBox>
				<ows:LowerCorner>2.5257209746879496 49.48461347792561</ows:LowerCorner>
				<ows:UpperCorner>6.45901428423457 51.50583649955355</ows:UpperCorner>
			</ows:WGS84BoundingBox>
			<ows:Identifier>orthophoto_1952</ows:Identifier>
			<Style isDefault="true">
				<ows:Identifier>default</ows:Identifier>
			</Style>
			<Format>image/png</Format>
			<InfoFormat>text/plain</InfoFormat>
			<TileMatrixSetLink>
				<TileMatrixSet>3857</TileMatrixSet>
				<TileMatrixSetLimits>
					<TileMatrixLimits>
						<TileMatrix>7</TileMatrix>
						<MinTileRow>42</MinTileRow>
						<MaxTileRow>44</MaxTileRow>
						<MinTileCol>64</MinTileCol>
						<MaxTileCol>67</MaxTileCol>
					</TileMatrixLimits>
					<TileMatrixLimits>
						<TileMatrix>8</TileMatrix>
						<MinTileRow>85</MinTileRow>
						<MaxTileRow>88</MaxTileRow>
						<MinTileCol>129</MinTileCol>
						<MaxTileCol>133</MaxTileCol>
					</TileMatrixLimits>
					<TileMatrixLimits>
						<TileMatrix>9</TileMatrix>
						<MinTileRow>170</MinTileRow>
						<MaxTileRow>175</MaxTileRow>
						<MinTileCol>259</MinTileCol>
						<MaxTileCol>266</MaxTileCol>
					</TileMatrixLimits>
					<TileMatrixLimits>
						<TileMatrix>10</TileMatrix>
						<MinTileRow>340</MinTileRow>
						<MaxTileRow>350</MaxTileRow>
						<MinTileCol>519</MinTileCol>
						<MaxTileCol>531</MaxTileCol>
					</TileMatrixLimits>
					<TileMatrixLimits>
						<TileMatrix>11</TileMatrix>
						<MinTileRow>681</MinTileRow>
						<MaxTileRow>700</MaxTileRow>
						<MinTileCol>1038</MinTileCol>
						<MaxTileCol>1061</MaxTileCol>
					</TileMatrixLimits>
					<TileMatrixLimits>
						<TileMatrix>12</TileMatrix>
						<MinTileRow>1362</MinTileRow>
						<MaxTileRow>1399</MaxTileRow>
						<MinTileCol>2076</MinTileCol>
						<MaxTileCol>2122</MaxTileCol>
					</TileMatrixLimits>
					<TileMatrixLimits>
						<TileMatrix>13</TileMatrix>
						<MinTileRow>2724</MinTileRow>
						<MaxTileRow>2797</MaxTileRow>
						<MinTileCol>4153</MinTileCol>
						<MaxTileCol>4243</MaxTileCol>
					</TileMatrixLimits>
					<TileMatrixLimits>
						<TileMatrix>14</TileMatrix>
						<MinTileRow>5448</MinTileRow>
						<MaxTileRow>5593</MaxTileRow>
						<MinTileCol>8306</MinTileCol>
						<MaxTileCol>8486</MaxTileCol>
					</TileMatrixLimits>
					<TileMatrixLimits>
						<TileMatrix>15</TileMatrix>
						<MinTileRow>10896</MinTileRow>
						<MaxTileRow>11186</MaxTileRow>
						<MinTileCol>16613</MinTileCol>
						<MaxTileCol>16972</MaxTileCol>
					</TileMatrixLimits>
					<TileMatrixLimits>
						<TileMatrix>16</TileMatrix>
						<MinTileRow>21792</MinTileRow>
						<MaxTileRow>22372</MaxTileRow>
						<MinTileCol>33227</MinTileCol>
						<MaxTileCol>33944</MaxTileCol>
					</TileMatrixLimits>
					<TileMatrixLimits>
						<TileMatrix>17</TileMatrix>
						<MinTileRow>43585</MinTileRow>
						<MaxTileRow>44743</MaxTileRow>
						<MinTileCol>66455</MinTileCol>
						<MaxTileCol>67888</MaxTileCol>
					</TileMatrixLimits>
				</TileMatrixSetLimits>
			</TileMatrixSetLink>
			<ResourceURL resourceType="tile" template="https://wmts.ngi.be/orthophotos_1950s/1.0.0/orthophoto_1952/{style}/{TileMatrixSet}/latest/{TileMatrix}/{TileRow}/{TileCol}.png" format="image/png"/>
		</Layer>
		<Layer>
			<ows:Title>Orthophoto 1951</ows:Title>
			<ows:Abstract xml:lang="en">
				orthophoto_1951
			</ows:Abstract>
			<ows:Keywords>
			</ows:Keywords>
			<ows:WGS84BoundingBox>
				<ows:LowerCorner>2.5257209746879496 49.48461347792561</ows:LowerCorner>
				<ows:UpperCorner>6.45901428423457 51.50583649955355</ows:UpperCorner>
			</ows:WGS84BoundingBox>
			<ows:Identifier>orthophoto_1951</ows:Identifier>
			<Style isDefault="true">
				<ows:Identifier>default</ows:Identifier>
			</Style>
			<Format>image/png</Format>
			<InfoFormat>text/plain</InfoFormat>
			<TileMatrixSetLink>
				<TileMatrixSet>3857</TileMatrixSet>
				<TileMatrixSetLimits>
					<TileMatrixLimits>
						<TileMatrix>7</TileMatrix>
						<MinTileRow>42</MinTileRow>
						<MaxTileRow>44</MaxTileRow>
						<MinTileCol>64</MinTileCol>
						<MaxTileCol>67</MaxTileCol>
					</TileMatrixLimits>
					<TileMatrixLimits>
						<TileMatrix>8</TileMatrix>
						<MinTileRow>85</MinTileRow>
						<MaxTileRow>88</MaxTileRow>
						<MinTileCol>129</MinTileCol>
						<MaxTileCol>133</MaxTileCol>
					</TileMatrixLimits>
					<TileMatrixLimits>
						<TileMatrix>9</TileMatrix>
						<MinTileRow>170</MinTileRow>
						<MaxTileRow>175</MaxTileRow>
						<MinTileCol>259</MinTileCol>
						<MaxTileCol>266</MaxTileCol>
					</TileMatrixLimits>
					<TileMatrixLimits>
						<TileMatrix>10</TileMatrix>
						<MinTileRow>340</MinTileRow>
						<MaxTileRow>350</MaxTileRow>
						<MinTileCol>519</MinTileCol>
						<MaxTileCol>531</MaxTileCol>
					</TileMatrixLimits>
					<TileMatrixLimits>
						<TileMatrix>11</TileMatrix>
						<MinTileRow>681</MinTileRow>
						<MaxTileRow>700</MaxTileRow>
						<MinTileCol>1038</MinTileCol>
						<MaxTileCol>1061</MaxTileCol>
					</TileMatrixLimits>
					<TileMatrixLimits>
						<TileMatrix>12</TileMatrix>
						<MinTileRow>1362</MinTileRow>
						<MaxTileRow>1399</MaxTileRow>
						<MinTileCol>2076</MinTileCol>
						<MaxTileCol>2122</MaxTileCol>
					</TileMatrixLimits>
					<TileMatrixLimits>
						<TileMatrix>13</TileMatrix>
						<MinTileRow>2724</MinTileRow>
						<MaxTileRow>2797</MaxTileRow>
						<MinTileCol>4153</MinTileCol>
						<MaxTileCol>4243</MaxTileCol>
					</TileMatrixLimits>
					<TileMatrixLimits>
						<TileMatrix>14</TileMatrix>
						<MinTileRow>5448</MinTileRow>
						<MaxTileRow>5593</MaxTileRow>
						<MinTileCol>8306</MinTileCol>
						<MaxTileCol>8486</MaxTileCol>
					</TileMatrixLimits>
					<TileMatrixLimits>
						<TileMatrix>15</TileMatrix>
						<MinTileRow>10896</MinTileRow>
						<MaxTileRow>11186</MaxTileRow>
						<MinTileCol>16613</MinTileCol>
						<MaxTileCol>16972</MaxTileCol>
					</TileMatrixLimits>
					<TileMatrixLimits>
						<TileMatrix>16</TileMatrix>
						<MinTileRow>21792</MinTileRow>
						<MaxTileRow>22372</MaxTileRow>
						<MinTileCol>33227</MinTileCol>
						<MaxTileCol>33944</MaxTileCol>
					</TileMatrixLimits>
					<TileMatrixLimits>
						<TileMatrix>17</TileMatrix>
						<MinTileRow>43585</MinTileRow>
						<MaxTileRow>44743</MaxTileRow>
						<MinTileCol>66455</MinTileCol>
						<MaxTileCol>67888</MaxTileCol>
					</TileMatrixLimits>
				</TileMatrixSetLimits>
			</TileMatrixSetLink>
			<ResourceURL resourceType="tile" template="https://wmts.ngi.be/orthophotos_1950s/1.0.0/orthophoto_1951/{style}/{TileMatrixSet}/latest/{TileMatrix}/{TileRow}/{TileCol}.png" format="image/png"/>
		</Layer>
		<Layer>
			<ows:Title>Orthophoto 1950</ows:Title>
			<ows:Abstract xml:lang="en">
				orthophoto_1950
			</ows:Abstract>
			<ows:Keywords>
			</ows:Keywords>
			<ows:WGS84BoundingBox>
				<ows:LowerCorner>2.5257209746879496 49.48461347792561</ows:LowerCorner>
				<ows:UpperCorner>6.45901428423457 51.50583649955355</ows:UpperCorner>
			</ows:WGS84BoundingBox>
			<ows:Identifier>orthophoto_1950</ows:Identifier>
			<Style isDefault="true">
				<ows:Identifier>default</ows:Identifier>
			</Style>
			<Format>image/png</Format>
			<InfoFormat>text/plain</InfoFormat>
			<TileMatrixSetLink>
				<TileMatrixSet>3857</TileMatrixSet>
				<TileMatrixSetLimits>
					<TileMatrixLimits>
						<TileMatrix>7</TileMatrix>
						<MinTileRow>42</MinTileRow>
						<MaxTileRow>44</MaxTileRow>
						<MinTileCol>64</MinTileCol>
						<MaxTileCol>67</MaxTileCol>
					</TileMatrixLimits>
					<TileMatrixLimits>
						<TileMatrix>8</TileMatrix>
						<MinTileRow>85</MinTileRow>
						<MaxTileRow>88</MaxTileRow>
						<MinTileCol>129</MinTileCol>
						<MaxTileCol>133</MaxTileCol>
					</TileMatrixLimits>
					<TileMatrixLimits>
						<TileMatrix>9</TileMatrix>
						<MinTileRow>170</MinTileRow>
						<MaxTileRow>175</MaxTileRow>
						<MinTileCol>259</MinTileCol>
						<MaxTileCol>266</MaxTileCol>
					</TileMatrixLimits>
					<TileMatrixLimits>
						<TileMatrix>10</TileMatrix>
						<MinTileRow>340</MinTileRow>
						<MaxTileRow>350</MaxTileRow>
						<MinTileCol>519</MinTileCol>
						<MaxTileCol>531</MaxTileCol>
					</TileMatrixLimits>
					<TileMatrixLimits>
						<TileMatrix>11</TileMatrix>
						<MinTileRow>681</MinTileRow>
						<MaxTileRow>700</MaxTileRow>
						<MinTileCol>1038</MinTileCol>
						<MaxTileCol>1061</MaxTileCol>
					</TileMatrixLimits>
					<TileMatrixLimits>
						<TileMatrix>12</TileMatrix>
						<MinTileRow>1362</MinTileRow>
						<MaxTileRow>1399</MaxTileRow>
						<MinTileCol>2076</MinTileCol>
						<MaxTileCol>2122</MaxTileCol>
					</TileMatrixLimits>
					<TileMatrixLimits>
						<TileMatrix>13</TileMatrix>
						<MinTileRow>2724</MinTileRow>
						<MaxTileRow>2797</MaxTileRow>
						<MinTileCol>4153</MinTileCol>
						<MaxTileCol>4243</MaxTileCol>
					</TileMatrixLimits>
					<TileMatrixLimits>
						<TileMatrix>14</TileMatrix>
						<MinTileRow>5448</MinTileRow>
						<MaxTileRow>5593</MaxTileRow>
						<MinTileCol>8306</MinTileCol>
						<MaxTileCol>8486</MaxTileCol>
					</TileMatrixLimits>
					<TileMatrixLimits>
						<TileMatrix>15</TileMatrix>
						<MinTileRow>10896</MinTileRow>
						<MaxTileRow>11186</MaxTileRow>
						<MinTileCol>16613</MinTileCol>
						<MaxTileCol>16972</MaxTileCol>
					</TileMatrixLimits>
					<TileMatrixLimits>
						<TileMatrix>16</TileMatrix>
						<MinTileRow>21792</MinTileRow>
						<MaxTileRow>22372</MaxTileRow>
						<MinTileCol>33227</MinTileCol>
						<MaxTileCol>33944</MaxTileCol>
					</TileMatrixLimits>
					<TileMatrixLimits>
						<TileMatrix>17</TileMatrix>
						<MinTileRow>43585</MinTileRow>
						<MaxTileRow>44743</MaxTileRow>
						<MinTileCol>66455</MinTileCol>
						<MaxTileCol>67888</MaxTileCol>
					</TileMatrixLimits>
				</TileMatrixSetLimits>
			</TileMatrixSetLink>
			<ResourceURL resourceType="tile" template="https://wmts.ngi.be/orthophotos_1950s/1.0.0/orthophoto_1950/{style}/{TileMatrixSet}/latest/{TileMatrix}/{TileRow}/{TileCol}.png" format="image/png"/>
		</Layer>
		<TileMatrixSet>
			<ows:Identifier>3857</ows:Identifier>
			<ows:SupportedCRS>urn:ogc:def:crs:EPSG::3857</ows:SupportedCRS>
			<TileMatrix>
				<ows:Identifier>7</ows:Identifier>
				<ScaleDenominator>4367830.1877243575</ScaleDenominator>
				<TopLeftCorner>-20037508.342789244 20037508.342789244</TopLeftCorner>
				<TileWidth>256</TileWidth>
				<TileHeight>256</TileHeight>
				<MatrixWidth>67</MatrixWidth>
				<MatrixHeight>44</MatrixHeight>
			</TileMatrix>
			<TileMatrix>
				<ows:Identifier>8</ows:Identifier>
				<ScaleDenominator>2183915.0938621787</ScaleDenominator>
				<TopLeftCorner>-20037508.342789244 20037508.342789244</TopLeftCorner>
				<TileWidth>256</TileWidth>
				<TileHeight>256</TileHeight>
				<MatrixWidth>133</MatrixWidth>
				<MatrixHeight>88</MatrixHeight>
			</TileMatrix>
			<TileMatrix>
				<ows:Identifier>9</ows:Identifier>
				<ScaleDenominator>1091957.5469310894</ScaleDenominator>
				<TopLeftCorner>-20037508.342789244 20037508.342789244</TopLeftCorner>
				<TileWidth>256</TileWidth>
				<TileHeight>256</TileHeight>
				<MatrixWidth>266</MatrixWidth>
				<MatrixHeight>175</MatrixHeight>
			</TileMatrix>
			<TileMatrix>
				<ows:Identifier>10</ows:Identifier>
				<ScaleDenominator>545978.7734655447</ScaleDenominator>
				<TopLeftCorner>-20037508.342789244 20037508.342789244</TopLeftCorner>
				<TileWidth>256</TileWidth>
				<TileHeight>256</TileHeight>
				<MatrixWidth>531</MatrixWidth>
				<MatrixHeight>350</MatrixHeight>
			</TileMatrix>
			<TileMatrix>
				<ows:Identifier>11</ows:Identifier>
				<ScaleDenominator>272989.38673277234</ScaleDenominator>
				<TopLeftCorner>-20037508.342789244 20037508.342789244</TopLeftCorner>
				<TileWidth>256</TileWidth>
				<TileHeight>256</TileHeight>
				<MatrixWidth>1061</MatrixWidth>
				<MatrixHeight>700</MatrixHeight>
			</TileMatrix>
			<TileMatrix>
				<ows:Identifier>12</ows:Identifier>
				<ScaleDenominator>136494.69336638617</ScaleDenominator>
				<TopLeftCorner>-20037508.342789244 20037508.342789244</TopLeftCorner>
				<TileWidth>256</TileWidth>
				<TileHeight>256</TileHeight>
				<MatrixWidth>2122</MatrixWidth>
				<MatrixHeight>1399</MatrixHeight>
			</TileMatrix>
			<TileMatrix>
				<ows:Identifier>13</ows:Identifier>
				<ScaleDenominator>68247.34668319309</ScaleDenominator>
				<TopLeftCorner>-20037508.342789244 20037508.342789244</TopLeftCorner>
				<TileWidth>256</TileWidth>
				<TileHeight>256</TileHeight>
				<MatrixWidth>4243</MatrixWidth>
				<MatrixHeight>2797</MatrixHeight>
			</TileMatrix>
			<TileMatrix>
				<ows:Identifier>14</ows:Identifier>
				<ScaleDenominator>34123.67334159654</ScaleDenominator>
				<TopLeftCorner>-20037508.342789244 20037508.342789244</TopLeftCorner>
				<TileWidth>256</TileWidth>
				<TileHeight>256</TileHeight>
				<MatrixWidth>8486</MatrixWidth>
				<MatrixHeight>5593</MatrixHeight>
			</TileMatrix>
			<TileMatrix>
				<ows:Identifier>15</ows:Identifier>
				<ScaleDenominator>17061.83667079827</ScaleDenominator>
				<TopLeftCorner>-20037508.342789244 20037508.342789244</TopLeftCorner>
				<TileWidth>256</TileWidth>
				<TileHeight>256</TileHeight>
				<MatrixWidth>16972</MatrixWidth>
				<MatrixHeight>11186</MatrixHeight>
			</TileMatrix>
			<TileMatrix>
				<ows:Identifier>16</ows:Identifier>
				<ScaleDenominator>8530.918335399136</ScaleDenominator>
				<TopLeftCorner>-20037508.342789244 20037508.342789244</TopLeftCorner>
				<TileWidth>256</TileWidth>
				<TileHeight>256</TileHeight>
				<MatrixWidth>33944</MatrixWidth>
				<MatrixHeight>22372</MatrixHeight>
			</TileMatrix>
			<TileMatrix>
				<ows:Identifier>17</ows:Identifier>
				<ScaleDenominator>4265.459167699568</ScaleDenominator>
				<TopLeftCorner>-20037508.342789244 20037508.342789244</TopLeftCorner>
				<TileWidth>256</TileWidth>
				<TileHeight>256</TileHeight>
				<MatrixWidth>67888</MatrixWidth>
				<MatrixHeight>44743</MatrixHeight>
			</TileMatrix>
		</TileMatrixSet>
	</Contents>
	<ServiceMetadataURL xlink:href="https://wmts.ngi.be/orthophotos_1950s/1.0.0/WMTSCapabilities.xml"/>
</Capabilities>